BEGIN:VCALENDAR
VERSION:2.0
PRODID:-//eventon.com NONSGML v1.0//EN
CALSCALE:GREGORIAN
METHOD:PUBLISH
BEGIN:VEVENT
UID:69e8678ded381
DTSTAMP:20260422T061541Z
DTSTART:20221214T130000Z
DTEND:20221214T170000Z
LOCATION:
SUMMARY:Noël des enfants de la Commune
DESCRIPTION:Noël des enfants de la Commune\nhttps://chatel-censoir.com/eve
 nts/noel-des-enfants-de-la-commune/
URL:https://chatel-censoir.com/events/noel-des-enfants-de-la-commune/
END:VEVENT
END:VCALENDAR