BEGIN:VCALENDAR
VERSION:2.0
PRODID:-//eventon.com NONSGML v1.0//EN
CALSCALE:GREGORIAN
METHOD:PUBLISH
BEGIN:VEVENT
UID:69e6b7959fb6d
DTSTAMP:20260420T233237Z
DTSTART:20221213T170000Z
DTEND:20221213T190000Z
LOCATION:
SUMMARY:Comité de direction de l'office de tourisme
DESCRIPTION:Comité de direction de l'office de tourisme\nhttps://chatel-ce
 nsoir.com/events/comite-de-direction-de-loffice-de-tourisme-2/
URL:https://chatel-censoir.com/events/comite-de-direction-de-loffice-de-tourisme-2/
END:VEVENT
END:VCALENDAR