BEGIN:VCALENDAR
VERSION:2.0
PRODID:-//eventon.com NONSGML v1.0//EN
CALSCALE:GREGORIAN
METHOD:PUBLISH
BEGIN:VEVENT
UID:69e745f7b6511
DTSTAMP:20260421T094007Z
DTSTART:20230114T140000Z
DTEND:20230114T163000Z
LOCATION:
SUMMARY:Cérémonie des voeux du Maire et du Conseil municipal
DESCRIPTION:Salle polyvalente Route d'Asnières\nhttps://chatel-censoir.com
 /events/ceremonie-des-voeux-du-maire-et-du-conseil-municipal/
URL:https://chatel-censoir.com/events/ceremonie-des-voeux-du-maire-et-du-conseil-municipal/
END:VEVENT
END:VCALENDAR